BEGIN:VCALENDAR
VERSION:2.0
PRODID:-//Sound Healing Bali - ECPv6.15.20//NONSGML v1.0//EN
CALSCALE:GREGORIAN
METHOD:PUBLISH
X-ORIGINAL-URL:https://soundhealingbali.com
X-WR-CALDESC:Events for Sound Healing Bali
REFRESH-INTERVAL;VALUE=DURATION:PT1H
X-Robots-Tag:noindex
X-PUBLISHED-TTL:PT1H
BEGIN:VTIMEZONE
TZID:Asia/Makassar
BEGIN:STANDARD
TZOFFSETFROM:+0800
TZOFFSETTO:+0800
TZNAME:WITA
DTSTART:20250101T000000
END:STANDARD
END:VTIMEZONE
BEGIN:VEVENT
DTSTART;TZID=Asia/Makassar:20260520T140000
DTEND;TZID=Asia/Makassar:20260525T203000
DTSTAMP:20260424T235525
CREATED:20260415T104907Z
LAST-MODIFIED:20260415T150112Z
UID:549-1779285600-1779741000@soundhealingbali.com
SUMMARY:Module 1 Sound Healing Facilitator Training
DESCRIPTION:Our next 6 day foundational course will be held in Ubud\, Bali.
URL:https://soundhealingbali.com/event/module-1-sound-healing-facilitator-training/
LOCATION:Ubud\, Bali\, Ubud\, Giyanyar\, 80571\, Indonesia
ATTACH;FMTTYPE=image/png:https://soundhealingbali.com/wp-content/uploads/2026/04/gongs-1.png
END:VEVENT
END:VCALENDAR